BEGIN:VCALENDAR
PRODID: -//CFLIB.ORG//iCalUS()//EN
VERSION:2.0
METHOD:REQUEST
BEGIN:VTIMEZONE
BEGIN:STANDARD
DTSTART:20061101T020000
RRULE:FREQ=YEARLY;INTERVAL=1;BYDAY=1SU;BYMONTH=11
TZOFFSETFROM:-0400
TZOFFSETTO:-0500
TZNAME:Standard Time
END:STANDARD
BEGIN:DAYLIGHT
DTSTART:20060301T020000
RRULE:FREQ=YEARLY;INTERVAL=1;BYDAY=2SU;BYMONTH=3
TZOFFSETFROM:-0500
TZOFFSETTO:-0400
TZNAME:Daylight Savings Time
END:DAYLIGHT
END:VTIMEZONE
BEGIN:VEVENT
UID:1614188066056.CFLIB.ORG
ORGANIZER;CN=:MAILTO:
DTSTAMP:20210225T043426
DTSTART;TZID=Eastern Time:20210227T090000
DTEND;TZID=Eastern Time:20210227T100000
SUMMARY:HURSTBRIDGE OFFICE - OFI/OPEN HOME - Lot 9/117/123 Bonds Road, LOWER PLENTY, 3093
LOCATION:Lot 9/117/123 Bonds Road, LOWER PLENTY, 3093
DESCRIPTION:OFI/OPEN HOME - Lot 9/117/123 Bonds Road, LOWER PLENTY, 3093\n\nSaturday 9:00AM-10:00AM\n\nClick the link for full listing information: http://www.mwmrealestate.com.au?/property/3428475
PRIORITY:1
TRANSP:OPAQUE
CLASS:PUBLIC
BEGIN:VALARM
TRIGGER:-PT30M
ACTION:DISPLAY
DESCRIPTION:Reminder
END:VALARM
END:VEVENT
END:VCALENDAR 