BEGIN:VCALENDAR
PRODID: -//CFLIB.ORG//iCalUS()//EN
VERSION:2.0
METHOD:REQUEST
BEGIN:VTIMEZONE
BEGIN:STANDARD
DTSTART:20061101T020000
RRULE:FREQ=YEARLY;INTERVAL=1;BYDAY=1SU;BYMONTH=11
TZOFFSETFROM:-0400
TZOFFSETTO:-0500
TZNAME:Standard Time
END:STANDARD
BEGIN:DAYLIGHT
DTSTART:20060301T020000
RRULE:FREQ=YEARLY;INTERVAL=1;BYDAY=2SU;BYMONTH=3
TZOFFSETFROM:-0500
TZOFFSETTO:-0400
TZNAME:Daylight Savings Time
END:DAYLIGHT
END:VTIMEZONE
BEGIN:VEVENT
UID:1614188263306.CFLIB.ORG
ORGANIZER;CN=:MAILTO:
DTSTAMP:20210225T043743
DTSTART;TZID=Eastern Time:20210225T163000
DTEND;TZID=Eastern Time:20210225T164500
SUMMARY:HURSTBRIDGE OFFICE - OFI/OPEN HOME - 27 Meander Road, HURSTBRIDGE, 3099
LOCATION:27 Meander Road, HURSTBRIDGE, 3099
DESCRIPTION:OFI/OPEN HOME - 27 Meander Road, HURSTBRIDGE, 3099\n\nThursday 4:30PM-4:45PM\n\nClick the link for full listing information: http://www.mwmrealestate.com.au?/property/3213914
PRIORITY:1
TRANSP:OPAQUE
CLASS:PUBLIC
BEGIN:VALARM
TRIGGER:-PT30M
ACTION:DISPLAY
DESCRIPTION:Reminder
END:VALARM
END:VEVENT
END:VCALENDAR 